0.1
0
0
-0.1
631231.324984066
4736073.15172383
