0.1
0
0
-0.1
634640.767990712
4736139.08772459
