0.1
0
0
-0.1
580718.811134439
4754382.45963868
