0.1
0
0
-0.1
580725.665144506
4753804.10444573
