0.1
0
0
-0.1
579889.199872553
4752637.30757603
