0.1
0
0
-0.1
594028.177812284
4713482.81005429
