0.1
0
0
-0.1
594036.036917197
4712904.50090294
