0.1
0
0
-0.1
594043.893622027
4712326.19691371
