0.1
0
0
-0.1
594051.751024693
4711747.89279145
