0.1
0
0
-0.1
594906.981341865
4711759.6757029
