0.1
0
0
-0.1
587429.309475909
4761406.47289522
