0.1
0
0
-0.1
588300.934859177
4759682.30178085
