0.1
0
0
-0.1
589150.253887156
4759693.23918005
