0.1
0
0
-0.1
592523.926227671
4761473.56720735
