0.1
0
0
-0.1
589999.570343548
4759704.39052078
