0.1
0
0
-0.1
590848.885799919
4759715.75286085
