0.1
0
0
-0.1
590864.324608796
4758559.03008227
