0.1
0
0
-0.1
590887.477078225
4756823.94714792
