0.1
0
0
-0.1
591737.155224749
4756835.30657208
