0.1
0
0
-0.1
592586.833868194
4756846.66549854
