0.1
0
0
-0.1
590895.193236259
4756245.5819988
