0.1
0
0
-0.1
592594.691603761
4756268.29878215
