0.1
0
0
-0.1
590902.910320345
4755667.21672377
