0.1
0
0
-0.1
591752.729539691
4755678.57458938
