0.1
0
0
-0.1
593388.896388484
4760328.41815577
