0.1
0
0
-0.1
583954.191488534
4767725.94495612
