0.1
0
0
-0.1
583961.349522975
4767147.56722076
