0.1
0
0
-0.1
583989.980115104
4764834.05504657
