0.1
0
0
-0.1
586535.993559902
4764865.79663715
