0.1
0
0
-0.1
584004.293167991
4763677.30194626
