0.1
0
0
-0.1
584011.445696196
4763098.92964283
