0.1
0
0
-0.1
587421.870237454
4761984.84438914
