0.1
0
0
-0.1
589961.303221368
4762596.23765971
