0.1
0
0
-0.1
589968.957378631
4762017.86507021
