0.1
0
0
-0.1
593357.141112969
4762641.89419736
