0.1
0
0
-0.1
562470.696082417
4704450.17653836
