0.1
0
0
-0.1
599779.056392717
4729759.8291681
