0.1
0
0
-0.1
567426.60444141
4723004.43827189
