0.1
0
0
-0.1
590825.715592457
4761450.85179679
