0.1
0
0
-0.1
589089.595366683
4764320.20838185
