0.1
0
0
-0.1
589112.344233974
4762585.08674654
