0.1
0
0
-0.1
588270.898185739
4761995.77746111
