0.1
0
0
-0.1
590810.263707968
4762607.59807218
