0.1
0
0
-0.1
618774.273300899
4716756.04335164
