0.1
0
0
-0.1
619638.941740715
4716192.46385545
