0.1
0
0
-0.1
616249.099809495
4714399.1605264
