0.1
0
0
-0.1
614548.759021293
4713792.20597288
