0.1
0
0
-0.1
605648.493530124
4791169.32323607
