0.1
0
0
-0.1
640937.695017279
4720065.26114433
