0.1
0
0
-0.1
564941.291777498
4714883.34343067
